BEGIN:VCALENDAR
VERSION:2.0
PRODID:-//Mentaltraining &amp; Spiritualität in Ohlstadt - ECPv6.15.20//NONSGML v1.0//EN
CALSCALE:GREGORIAN
METHOD:PUBLISH
X-WR-CALNAME:Mentaltraining &amp; Spiritualität in Ohlstadt
X-ORIGINAL-URL:https://simonewalser.de
X-WR-CALDESC:Veranstaltungen für Mentaltraining &amp; Spiritualität in Ohlstadt
REFRESH-INTERVAL;VALUE=DURATION:PT1H
X-Robots-Tag:noindex
X-PUBLISHED-TTL:PT1H
BEGIN:VTIMEZONE
TZID:Europe/Berlin
BEGIN:DAYLIGHT
TZOFFSETFROM:+0100
TZOFFSETTO:+0200
TZNAME:CEST
DTSTART:20250330T010000
END:DAYLIGHT
BEGIN:STANDARD
TZOFFSETFROM:+0200
TZOFFSETTO:+0100
TZNAME:CET
DTSTART:20251026T010000
END:STANDARD
BEGIN:DAYLIGHT
TZOFFSETFROM:+0100
TZOFFSETTO:+0200
TZNAME:CEST
DTSTART:20260329T010000
END:DAYLIGHT
BEGIN:STANDARD
TZOFFSETFROM:+0200
TZOFFSETTO:+0100
TZNAME:CET
DTSTART:20261025T010000
END:STANDARD
BEGIN:DAYLIGHT
TZOFFSETFROM:+0100
TZOFFSETTO:+0200
TZNAME:CEST
DTSTART:20270328T010000
END:DAYLIGHT
BEGIN:STANDARD
TZOFFSETFROM:+0200
TZOFFSETTO:+0100
TZNAME:CET
DTSTART:20271031T010000
END:STANDARD
END:VTIMEZONE
BEGIN:VEVENT
DTSTART;VALUE=DATE:20260319
DTEND;VALUE=DATE:20260522
DTSTAMP:20260419T151610
CREATED:20260114T095000Z
LAST-MODIFIED:20260321T061703Z
UID:378-1773878400-1779407999@simonewalser.de
SUMMARY:Modul 1: Die Macht deiner Gedanken
DESCRIPTION:Im ersten Modul beginnt die Reise in deine Gedankenwelt und damit zu dir selbst. Wir denken jeden Tag ca. 40.000 – 60.000 Gedanken\, aber nur 3 % davon sind positiv. Dabei sind Gedanken unglaublich mächtig. Sie sind die Ursache für deine Wirklichkeit\, wie du sie erlebst. Deine Gedanken formen dein Leben.\nIn Modul 1 lernst du\, deine Gedanken bewusst wahrzunehmen und gezielt zu lenken\, um dir Schritt für Schritt ein Leben nach deinen Wünschen zu erschaffen. Dabei spielt dein Unterbewusstsein eine entscheidende Rolle: Es steuert zu rund 95 % dein Denken\, Reden und Handeln. Ich zeige dir\, wie du unbewusste Muster erkennen kannst und dein Unterbewusstsein als Freund und Helfer nutzt.\nEin weiteres Thema sind Gefühle: Du lernst\, wie Gedanken und Gefühle zusammenhängen und wie du es schaffst\, dich nicht mehr von deinen Gefühlen beherrschen zu lassen.\nAlle Inhalte werden anschaulich vermittelt – mit Arbeitsblättern\, Alltagsbeispielen und Geschichten. Es ist jederzeit Raum für Austausch\, Fragen und persönliche Erfahrungen.
URL:https://simonewalser.de/event/modul-1-die-macht-deiner-gedanken/
LOCATION:Simone Walser Mentaltraining & Spiritualität\, Heimgartenstr. 6a\, Ohlstadt\, 82441
CATEGORIES:7-Wochen-Mentaltraining
ATTACH;FMTTYPE=image/webp:https://simonewalser.de/wp-content/uploads/Simone_225.webp
ORGANIZER;CN="Dr. Simone Walser":MAILTO:info@simonewalser.de
END:VEVENT
END:VCALENDAR